BEGIN:VCALENDAR
VERSION:2.0
PRODID:-//hacksw/handcal//NONSGML v1.0//EN
CALSCALE:GREGORIAN
BEGIN:VEVENT
DESCRIPTION:Летняя история БАДов: что рекомендовать в аптеке летом
DTEND:
DTSTART:20240530T075723Z
LOCATION:
SUMMARY:Летняя история БАДов: что рекомендовать в аптеке летом
URL;VALUE=URI:https://iq-provision.ru/webinars/1670
DTSTAMP:20260419T160030Z
UID:69e4d1ee5918e
END:VEVENT
END:VCALENDAR