BEGIN:VCALENDAR
VERSION:2.0
PRODID:-//hacksw/handcal//NONSGML v1.0//EN
CALSCALE:GREGORIAN
BEGIN:VEVENT
DESCRIPTION:Взгляд доктора: Роль фармацевта в первичной консультации пациентов с офтальмологическими проблемами
DTEND:
DTSTART:20240917T124359Z
LOCATION:
SUMMARY:Взгляд доктора: Роль фармацевта в первичной консультации пациентов с офтальмологическими проблемами
URL;VALUE=URI:https://iq-provision.ru/webinars/1860
DTSTAMP:20260424T131306Z
UID:69eb4232432a9
END:VEVENT
END:VCALENDAR