BEGIN:VCALENDAR
VERSION:2.0
PRODID:-//hacksw/handcal//NONSGML v1.0//EN
CALSCALE:GREGORIAN
BEGIN:VEVENT
DESCRIPTION:Лояльные клиенты в аптеке: Как увеличить их количество?
DTEND:
DTSTART:20241125T125253Z
LOCATION:
SUMMARY:Лояльные клиенты в аптеке: Как увеличить их количество?
URL;VALUE=URI:https://iq-provision.ru/webinars/1958
DTSTAMP:20260423T203920Z
UID:69ea5948d5979
END:VEVENT
END:VCALENDAR