BEGIN:VCALENDAR
VERSION:2.0
PRODID:-//hacksw/handcal//NONSGML v1.0//EN
CALSCALE:GREGORIAN
BEGIN:VEVENT
DESCRIPTION:Тревожность\, выгорание\, депрессия — 3 стадии одного процесса?
DTEND:
DTSTART:20251211T130033Z
LOCATION:
SUMMARY:Тревожность\, выгорание\, депрессия — 3 стадии одного процесса?
URL;VALUE=URI:https://iq-provision.ru/webinars/2452
DTSTAMP:20260423T133517Z
UID:69e9f5e5195db
END:VEVENT
END:VCALENDAR