BEGIN:VCALENDAR
VERSION:2.0
PRODID:-//hacksw/handcal//NONSGML v1.0//EN
CALSCALE:GREGORIAN
BEGIN:VEVENT
DESCRIPTION:Рациональные комбинации при ОРВИ: разбираем аптечные кейсы
DTEND:
DTSTART:20251218T074853Z
LOCATION:
SUMMARY:Рациональные комбинации при ОРВИ: разбираем аптечные кейсы
URL;VALUE=URI:https://iq-provision.ru/webinars/2455
DTSTAMP:20260423T134144Z
UID:69e9f76824cd1
END:VEVENT
END:VCALENDAR