BEGIN:VCALENDAR
VERSION:2.0
PRODID:-//hacksw/handcal//NONSGML v1.0//EN
CALSCALE:GREGORIAN
BEGIN:VEVENT
DESCRIPTION:Рациональная терапия ОРВИ:
от купирования симптомов
к предотвращению последствий
DTEND:
DTSTART:20260317T130009Z
LOCATION:
SUMMARY:Рациональная терапия ОРВИ:
от купирования симптомов
к предотвращению последствий
URL;VALUE=URI:https://iq-provision.ru/webinars/2528
DTSTAMP:20260425T234550Z
UID:69ed27fea2a16
END:VEVENT
END:VCALENDAR