BEGIN:VCALENDAR
VERSION:2.0
PRODID:-//hacksw/handcal//NONSGML v1.0//EN
CALSCALE:GREGORIAN
BEGIN:VEVENT
DESCRIPTION:Пациент с болью в ухе в сезон ОРВИ
DTEND:
DTSTART:20260331T130012Z
LOCATION:
SUMMARY:Пациент с болью в ухе в сезон ОРВИ
URL;VALUE=URI:https://iq-provision.ru/webinars/2529
DTSTAMP:20260425T234129Z
UID:69ed26f901d64
END:VEVENT
END:VCALENDAR