BEGIN:VCALENDAR
VERSION:2.0
PRODID:-//hacksw/handcal//NONSGML v1.0//EN
CALSCALE:GREGORIAN
BEGIN:VEVENT
DESCRIPTION:Особенности выбора витамина D
DTEND:
DTSTART:20211116T124316Z
LOCATION:
SUMMARY:Особенности выбора витамина D
URL;VALUE=URI:https://iq-provision.ru/webinars/461
DTSTAMP:20260422T115410Z
UID:69e88cb272939
END:VEVENT
END:VCALENDAR