BEGIN:VCALENDAR
VERSION:2.0
PRODID:-//hacksw/handcal//NONSGML v1.0//EN
CALSCALE:GREGORIAN
BEGIN:VEVENT
DESCRIPTION:"Плохая" и "хорошая" косметика. Что должно быть в составе?
DTEND:
DTSTART:20220719T124502Z
LOCATION:
SUMMARY:"Плохая" и "хорошая" косметика. Что должно быть в составе?
URL;VALUE=URI:https://iq-provision.ru/webinars/810
DTSTAMP:20260424T013817Z
UID:69ea9f5923ca8
END:VEVENT
END:VCALENDAR