BEGIN:VCALENDAR
VERSION:2.0
PRODID:-//hacksw/handcal//NONSGML v1.0//EN
CALSCALE:GREGORIAN
BEGIN:VEVENT
DESCRIPTION:Лето в самом разгаре. Собираем аптечку в отпуск!
DTEND:
DTSTART:20220727T124621Z
LOCATION:
SUMMARY:Лето в самом разгаре. Собираем аптечку в отпуск!
URL;VALUE=URI:https://iq-provision.ru/webinars/816
DTSTAMP:20260421T092155Z
UID:69e717832f1c9
END:VEVENT
END:VCALENDAR